View In:
ArcGIS JavaScript
ArcGIS Online Map Viewer
ArcGIS Earth
Service Description: Ground_Elevations
Name: Ground_Elevations
Description:
Single Fused Map Cache: true
Tile Info:
- Height: 256
- Width: 256
- DPI: 96
-
Levels of Detail: 12
- Format: LERC
- Compression Quality: 0.0
- LERC Error: 0.1
- Origin: X: -1.171053E8
Y: 1.391601E8
- Spatial Reference: 103126
(6547)
LatestVCSWkid(0)
Storage Info:
- Storage Format: esriMapCacheStorageModeCompactV2
- Packet Size: 128
Extent:
XMin: 1853044.0000000037
YMin: 352798.00000000413
XMax: 2074532.000000005
YMax: 605856.0000000163
Spatial Reference: 103126
(6547)
LatestVCSWkid(0)
Initial Extent:
XMin: 1853044.0000000037
YMin: 352798.00000000413
XMax: 2074532.000000005
YMax: 605856.0000000163
Spatial Reference: 103126
(6547)
LatestVCSWkid(0)
Full Extent:
XMin: 1853044.0000000037
YMin: 352798.00000000413
XMax: 2074532.000000005
YMax: 605856.0000000163
Spatial Reference: 103126
(6547)
LatestVCSWkid(0)
Pixel Size X: 1.0
Pixel Size Y: 1.0
Band Count: 1
Pixel Type: U16
RasterFunction Infos: {"rasterFunctionInfos": [{
"name": "None",
"description": "",
"help": ""
}]}
Mensuration Capabilities: Basic
Inspection Capabilities:
Has Histograms: true
Has Colormap: false
Has Multi Dimensions : false
Rendering Rule:
Min Scale: 1024000
Max Scale: 500
Min LOD: 0
Max LOD: 11
Copyright Text:
Service Data Type: esriImageServiceDataTypeGeneric
Min Values: 1612
Max Values: 2259
Mean Values: 1889.8899577951
Standard Deviation Values: 125.30739034811
Object ID Field:
Fields:
None
Default Mosaic Method: Center
Allowed Mosaic Methods:
SortField:
SortValue: null
Mosaic Operator: First
Default Compression Quality: 75
Default Resampling Method: Bilinear
Max Record Count: null
Max Image Height: 4100
Max Image Width: 15000
Max Download Image Count: null
Max Mosaic Image Count: null
Allow Raster Function: true
Allow Copy: true
Allow Analysis: true
Allow Compute TiePoints: false
Supports Statistics: false
Supports Advanced Queries: false
Use StandardizedQueries: true
Raster Type Infos:
Name: Raster Dataset
Description: Supports all ArcGIS Raster Datasets
Help:
Has Raster Attribute Table: false
Edit Fields Info: null
Ownership Based AccessControl For Rasters: null
Child Resources:
Info
Histograms
Statistics
Key Properties
Legend
Raster Function Infos
Supported Operations:
Export Image
Identify
Measure
Compute Histograms
Compute Statistics Histograms
Get Samples
Compute Class Statistics
Query Boundary
Compute Pixel Location
Compute Angles
Validate
Project