{
 "currentVersion": 11.5,
 "serviceDescription": "Ground_Elevations",
 "serviceItemId": "b974f9d6b4014ab4bfe504637edce38c",
 "name": "Ground_Elevations",
 "description": "",
 "extent": {
  "xmin": 1853044.0000000037,
  "ymin": 352798.00000000413,
  "xmax": 2074532.000000005,
  "ymax": 605856.0000000163,
  "spatialReference": {
   "wkid": 103126,
   "latestWkid": 6547
  }
 },
 "initialExtent": {
  "xmin": 1853044.0000000037,
  "ymin": 352798.00000000413,
  "xmax": 2074532.000000005,
  "ymax": 605856.0000000163,
  "spatialReference": {
   "wkid": 103126,
   "latestWkid": 6547
  }
 },
 "fullExtent": {
  "xmin": 1853044.0000000037,
  "ymin": 352798.00000000413,
  "xmax": 2074532.000000005,
  "ymax": 605856.0000000163,
  "spatialReference": {
   "wkid": 103126,
   "latestWkid": 6547
  }
 },
 "sortableFields": "",
 "bandCount": 1,
 "pixelType": "U16",
 "minValues": [
  1612
 ],
 "maxValues": [
  2259
 ],
 "meanValues": [
  1889.8899577951
 ],
 "stdvValues": [
  125.30739034811
 ],
 "serviceProperties": "Center<\/MosaicMethod>First<\/MosaicOperator>true<\/SortAscending><\/LockImageID><\/TileOrderField>0<\/TileOrderBase>0.000000<\/AvgImageSpacingX>0.000000<\/AvgImageSpacingY>0.0<\/ViewPointX>0.0<\/ViewPointY>0.0<\/ViewPointDefShiftX>0.0<\/ViewPointDefShiftY>None<\/CompressionMethod>75<\/CompressionQuality>0.100000<\/CompressionTolerance>Bilinear<\/SamplingMethod><\/ImageServiceProperties><\/ImageServer>",
 "allowedFields": "",
 "hasMultidimensions": false,
 "pixelSizeX": 1,
 "pixelSizeY": 1,
 "meanPixelSize": 0.3048,
 "datasetFormat": "TIFF",
 "uncompressedSize": 112098620608,
 "blockWidth": 128,
 "blockHeight": 128,
 "compressionType": "LERC",
 "bandNames": [
  "Band_1"
 ],
 "allowCopy": true,
 "allowAnalysis": true,
 "itemAccess": false,
 "inspectionCapabilities": "",
 "noDataValue": 65535,
 "noDataValues": [
  65535
 ],
 "minPixelSize": 0.43402864583506945,
 "maxPixelSize": 888.8906666702222,
 "copyrightText": "",
 "serviceDataType": "esriImageServiceDataTypeGeneric",
 "serviceSourceType": "esriImageServiceSourceTypeDataset",
 "objectIdField": "",
 "fields": [],
 "capabilities": "Image,Metadata,Mensuration,TileMap",
 "defaultMosaicMethod": "Center",
 "allowedMosaicMethods": "",
 "sortField": "",
 "sortValue": null,
 "sortAscending": true,
 "mosaicOperator": "First",
 "defaultCompressionQuality": 75,
 "defaultResamplingMethod": "Bilinear",
 "maxImageHeight": 4100,
 "maxImageWidth": 15000,
 "singleFusedMapCache": true,
 "tileInfo": {
  "rows": 256,
  "cols": 256,
  "dpi": 96,
  "format": "LERC",
  "compressionQuality": 0,
  "lercError": 0.1,
  "origin": {
   "x": -117105300,
   "y": 139160100
  },
  "spatialReference": {
   "wkid": 103126,
   "latestWkid": 6547
  },
  "lods": [
   {
    "level": 0,
    "resolution": 888.8906666702222,
    "scale": 1024000
   },
   {
    "level": 1,
    "resolution": 444.4453333351111,
    "scale": 512000
   },
   {
    "level": 2,
    "resolution": 222.22266666755556,
    "scale": 256000
   },
   {
    "level": 3,
    "resolution": 111.11133333377778,
    "scale": 128000
   },
   {
    "level": 4,
    "resolution": 55.55566666688889,
    "scale": 64000
   },
   {
    "level": 5,
    "resolution": 27.777833333444445,
    "scale": 32000
   },
   {
    "level": 6,
    "resolution": 13.888916666722222,
    "scale": 16000
   },
   {
    "level": 7,
    "resolution": 6.944458333361111,
    "scale": 8000
   },
   {
    "level": 8,
    "resolution": 3.4722291666805556,
    "scale": 4000
   },
   {
    "level": 9,
    "resolution": 1.7361145833402778,
    "scale": 2000
   },
   {
    "level": 10,
    "resolution": 0.8680572916701389,
    "scale": 1000
   },
   {
    "level": 11,
    "resolution": 0.43402864583506945,
    "scale": 500
   }
  ]
 },
 "storageInfo": {
  "storageFormat": "esriMapCacheStorageModeCompactV2",
  "packetSize": 128
 },
 "cacheType": "Elevation",
 "allowRasterFunction": true,
 "rasterFunctionInfos": [
  {
   "name": "None",
   "description": "",
   "help": ""
  }
 ],
 "rasterTypeInfos": [
  {
   "name": "Raster Dataset",
   "description": "Supports all ArcGIS Raster Datasets",
   "help": ""
  }
 ],
 "mensurationCapabilities": "Basic",
 "hasHistograms": true,
 "hasColormap": false,
 "hasRasterAttributeTable": false,
 "minScale": 1024000,
 "maxScale": 500,
 "minLOD": 0,
 "maxLOD": 11,
 "exportTilesAllowed": false,
 "supportsStatistics": false,
 "supportsAdvancedQueries": false,
 "editFieldsInfo": null,
 "ownershipBasedAccessControlForRasters": null,
 "allowComputeTiePoints": false,
 "useStandardizedQueries": true,
 "advancedQueryCapabilities": {
  "useStandardizedQueries": true,
  "supportsStatistics": false,
  "supportsOrderBy": false,
  "supportsDistinct": false,
  "supportsPagination": false
 },
 "spatialReference": {
  "wkid": 103126,
  "latestWkid": 6547
 }
}
